BEGIN:VCALENDAR
VERSION:2.0
PRODID:icalendar-ruby
CALSCALE:GREGORIAN
METHOD:PUBLISH
BEGIN:VEVENT
DTSTAMP:20260424T144120Z
UID:43-1193329@gracebibledracut.com
DTSTART:20260620T210000Z
DTEND:20260620T223000Z
CLASS:PUBLIC
CREATED:20260423T080514
DESCRIPTION:Rain date June 27
LAST-MODIFIED:20260423T080514
LOCATION:
SUMMARY:Car Show
URL;VALUE=URI:https://gracebibledracut.com/events/car-show--43/2026-06-20
END:VEVENT
END:VCALENDAR
